BEGIN:VCALENDAR
VERSION:2.0
CALSCALE:GREGORIAN
PRODID:-//MyApp//Calendar 1.0//EN
BEGIN:VEVENT
METHOD:PUBLISH
UID:47062@regionalniportaly.cz
DTSTAMP:20260422T184435Z
DTSTART;VALUE=DATE:20250118
DTEND;VALUE=DATE:20250119
SUMMARY:Jakub Smolík
DESCRIPTION:Kostel svaté Markéty vás srdečně zve na koncert známého&nbsp\;zpěváka&nbsp\;Jakuba Smolíka.&nbsp\;&nbsp\;Těšít se můžete na vystoupení ve vyjmečném prostou\, kterým je nově opravený&nbsp\;kostel.&nbsp\;Nenechte si ujít tento jedinečný zážitek!&nbsp\;
LOCATION:Jaroměřice nad Rokytnou
END:VEVENT
END:VCALENDAR