BEGIN:VCALENDAR
VERSION:2.0
CALSCALE:GREGORIAN
PRODID:-//MyApp//Calendar 1.0//EN
BEGIN:VEVENT
METHOD:PUBLISH
UID:47558@regionalniportaly.cz
DTSTAMP:20260422T171643Z
DTSTART;VALUE=DATE:20241201
DTEND;VALUE=DATE:20250228
SUMMARY:Dárkový poukaz na pronájem ledové plochy Na Hvězdě
DESCRIPTION:Ledová plocha bude pravděpodobně zprovozněna v pátek 29. 11. 2024.&nbsp\;&nbsp\;Telefonní kontakt na pokladnu a obsluhu ledové plochy je&nbsp\;723 057 223.Bruslení pro veřejnost:Předpokládané zahájení provozu 29.11.2024.Provozní doba od 8:00 do 22:00 hod.Rozpis veřejného bruslení naleznete v sekci REZERVACE/ROZPIS LEDU.Pronájem ledové plochyIndividuální pronájem ledové plochy zadejte přímo v rezervačním systému&nbsp\;vyplněním jednoduchého formuláře.Rezervace
LOCATION:Třebíč
END:VEVENT
END:VCALENDAR