BEGIN:VCALENDAR
VERSION:2.0
CALSCALE:GREGORIAN
PRODID:-//MyApp//Calendar 1.0//EN
BEGIN:VEVENT
METHOD:PUBLISH
UID:47580@regionalniportaly.cz
DTSTAMP:20260422T140901Z
DTSTART;VALUE=DATE:20241201
DTEND;VALUE=DATE:20250228
SUMMARY:Vstupenka na veřejné bruslení Na Hvězdě
DESCRIPTION:Ledová plocha bude pravděpodobně zprovozněna v pátek 29.11.2024.&nbsp\;&nbsp\;Telefonní kontakt na pokladnu a obsluhu ledové plochy je&nbsp\;723 057 223.Bruslení pro veřejnostPředpokládané zahájení provozu 29.11.2024.Provozní doba od 8:00 do 22:00 hod.Rozpis veřejného bruslení naleznete v sekci REZERVACE/ROZPIS LEDU.&nbsp\;Bruslení pro veřejnostJednotné vstupné&nbsp\; &nbsp\; &nbsp\; &nbsp\; &nbsp\; &nbsp\; &nbsp\; &nbsp\; &nbsp\; &nbsp\; &nbsp\; &nbsp\; &nbsp\; &nbsp\; &nbsp\; &nbsp\; &nbsp\; &nbsp\; &nbsp\; &nbsp\; 70 Kč / za osobuDoplňkové službyBroušení každou sobotu a neděli od 14:00 do 18:00.&nbsp\;Nabroušení bruslí&nbsp\; &nbsp\; &nbsp\; &nbsp\; &nbsp\; &nbsp\; &nbsp\; &nbsp\; &nbsp\; &nbsp\; &nbsp\; &nbsp\; &nbsp\; &nbsp\; &nbsp\; &nbsp\; &nbsp\; &nbsp\; &nbsp\; &nbsp\; &nbsp\; &nbsp\; &nbsp\; &nbsp\; &nbsp\; &nbsp\;100 KčZapůjčení bruslí&nbsp\; &nbsp\; &nbsp\; &nbsp\; &nbsp\; &nbsp\; &nbsp\; &nbsp\; 100 Kč&nbsp\;+ vratná záloha 300 Kč&nbsp\;
LOCATION:Třebíč
END:VEVENT
END:VCALENDAR