BEGIN:VCALENDAR
VERSION:2.0
CALSCALE:GREGORIAN
PRODID:-//MyApp//Calendar 1.0//EN
BEGIN:VEVENT
METHOD:PUBLISH
UID:47634@regionalniportaly.cz
DTSTAMP:20260422T140816Z
DTSTART;VALUE=DATE:20241110
DTEND;VALUE=DATE:20241111
SUMMARY:Podzimní koncert s Virtuosi Trebicenses
DESCRIPTION:Další koncert orchestru Virtuosi Trebicenses si můžete přijít poslechnout v neděli 10. listopadu 2024 od 18:00 h do Kamenného sálu Zámku Třebíč. Program nabídne jako vždy pestrou škálu komorní orchestrální hudby. Jako host vystoupí skvělý třebíčský klavírista Kamil El-Ahmadieh a flétnistka Klára Janatová. Společně s orchestrem přednesou skladbu Daniela Hellbacha - Concerto. Švýcarského hudebního pedagoga a skladatele jehož hudební styl kombinuje prvky populární\, rockové i jazzové hudby společně s hudbou klasickou. Skladba Concerto pro altovou flétnu\, klavír a orchestr bude jistě zajímavá a moc se na ni těšíme. 
LOCATION:Třebíč
END:VEVENT
END:VCALENDAR