BEGIN:VCALENDAR
VERSION:2.0
CALSCALE:GREGORIAN
PRODID:-//MyApp//Calendar 1.0//EN
BEGIN:VEVENT
METHOD:PUBLISH
UID:47675@regionalniportaly.cz
DTSTAMP:20260422T124307Z
DTSTART;VALUE=DATE:20241115
DTEND;VALUE=DATE:20241116
SUMMARY:Roxy Club: DJ Manene
DESCRIPTION:
LOCATION:Třebíč
END:VEVENT
END:VCALENDAR