BEGIN:VCALENDAR
VERSION:2.0
CALSCALE:GREGORIAN
PRODID:-//MyApp//Calendar 1.0//EN
BEGIN:VEVENT
METHOD:PUBLISH
UID:47751@regionalniportaly.cz
DTSTAMP:20260421T190243Z
DTSTART;VALUE=DATE:20241105
DTEND;VALUE=DATE:20241106
SUMMARY:Tomáš Vejmola - Afrika s Tomíkem
DESCRIPTION:Vydejte se s námi na neuvěřitelnou výpravu v nejnovějším dobrodružném filmu Africká jízda! Rodák z Hranic\, Tomáš Vejmola a kameraman David Žváček se vydávají na epickou 111 dní dlouhou cestu Afrikou v nejméně vhodném vozidle – maličkém tuktuku! Jejich odvážná výprava začíná v Jihoafrické republice a vede je přes divoké a nezkrotné země Botswany\, Zambie\, Zimbabwe\, Malawi\, Tanzanie a končí v Ugandě. Tento film vás vtáhne do bušícího srdce Afriky\, kde každý den přináší nové výzvy a nečekaná dobrodružství. Na cestě se Tomáš a David střetávají s divokou přírodou\, exotickými zvířaty i fascinujícími domorodými kmeny. Cestopis je plný dramatických okamžiků\, kdy kluci bojují s nehostinným terénem\, zatímco jejich maličký tuktuk čelí zdánlivě nepřekonatelným překážkám. A přesto\, uprostřed všech těchto výzev\, se najde spousta prostoru pro humor a srdečný smích\, který je provází na každém kroku. Přesto všechno nejde jen o cestopis\, ale oslavu odvahy\, přátelství a nezdolného lidského ducha. Vezmeme vás na cestu plnou nádherných scenérií\, strhujícího napětí a nekonečné srandy. Připravte se na zážitek\, který vás inspiruje a ukáže\, že i ty nejtěžší cesty mohou být plné radosti a dobrodružství!\nVstupné v předprodeji 190\,-\, na místě: 220\,- Kč\nVstupenky již v prodeji\n 
LOCATION:Třebíč
END:VEVENT
END:VCALENDAR