BEGIN:VCALENDAR
VERSION:2.0
CALSCALE:GREGORIAN
PRODID:-//MyApp//Calendar 1.0//EN
BEGIN:VEVENT
METHOD:PUBLISH
UID:47752@regionalniportaly.cz
DTSTAMP:20260422T124205Z
DTSTART;VALUE=DATE:20241107
DTEND;VALUE=DATE:20241108
SUMMARY:Skupina Fragile
DESCRIPTION:FRAGILE je slovenská vokálna skupina zložená z výrazných speváckych osobností\, ktoré bez použitia hudobných nástrojov\, teda a cappella\, interpretujú známe svetové hity. Koncerty skupiny FRAGILE sú plné nielen výbornej hudby\, ale aj podmanivého humoru\, vďaka čomu zažijete neopakovateľný večer plný skvelej zábavy.\nŠpecifikom i dominantou FRAGILE je práve hudobný žáner\, ktorý skupina interpretuje. Termín ‘a cappella‘ označuje vokálnu hudbu - teda spev bez doprovodu hudobných nástrojov. Jednoducho povedané\, tam\, kde spevákom v bežných  hudobných skupinách pri speve pomáhajú hudobné nástroje\, si musia speváci v a cappella formáciach vystačiť iba so svojím hlasom. Keďže sa niet za čo skryť\, musí byť pri speve a cappella všetko čisté a dokonalé. Skupina FRAGILE zvláda výzvy tohto náročného žánru majstrovsky\, o čom svedčia i viaceré ocenenia\, ako 3x cena OTO (Osobnosť televíznej obrazovky) v kategórii najpopulárnejšia hudobná skupina\, či Krištáľové krídlo za CD Hlasy s Richardom Müllerom.\nEnergia\, ktorú Vám FRAGILE z pódia odovzdá\, sa dá len ťažko opísať. Treba ju jednoducho zažiť na vlastnej koži.\nVstupné: 350\,-  390\,-   420\,- Kč\nVstupenky již v prodeji
LOCATION:Třebíč
END:VEVENT
END:VCALENDAR