BEGIN:VCALENDAR
VERSION:2.0
CALSCALE:GREGORIAN
PRODID:-//MyApp//Calendar 1.0//EN
BEGIN:VEVENT
METHOD:PUBLISH
UID:47753@regionalniportaly.cz
DTSTAMP:20260422T171811Z
DTSTART;VALUE=DATE:20241108
DTEND;VALUE=DATE:20241109
SUMMARY:Třebíčský kotlík
DESCRIPTION:Osmý ročník úspěšného programu pořádaný Kamarády staré řeky - Třebíčský kotlík - se vrací do velkého sálu Národního domu. V pásmu\, věnovaném trampské písni se představí kapely Country Dej (Znojmo - Třebíč)\, Valchagenk (Vladislav) a Vedlejší kolej (Střelice).\nVstupné: 150\,- Kč\nVstupenky již v prodeji
LOCATION:Třebíč
END:VEVENT
END:VCALENDAR