BEGIN:VCALENDAR
VERSION:2.0
CALSCALE:GREGORIAN
PRODID:-//MyApp//Calendar 1.0//EN
BEGIN:VEVENT
METHOD:PUBLISH
UID:47754@regionalniportaly.cz
DTSTAMP:20260422T124154Z
DTSTART;VALUE=DATE:20241111
DTEND;VALUE=DATE:20241112
SUMMARY:Svatomartinské slavnosti
DESCRIPTION:Program:\n11:11              Zahájení Svatomartinských slavností 11:20-12:30   KATEŘINA STEINEROVÁ &amp\; HER SWING BOYS – koncert swingové kapely 12:30-14:00   Reprodukovaná hudba 13:00              SHŠ Grál – vystoupení skupiny historického šermu 14:00-15:15   KATEŘINA STEINEROVÁ &amp\; HER SWING BOYS – koncert swingové kapely 15:15              SHŠ Grál – vystoupení skupiny historického šermu 16:00-16:50   CULINKA – písničková show pro děti 17:00              Příjezd sv. Martina 17:30-18:45   Cimbálová muzika GRAJCAR\n                       Moderuje Joža Kolář\nVstup zdarma
LOCATION:Třebíč
END:VEVENT
END:VCALENDAR