BEGIN:VCALENDAR
VERSION:2.0
CALSCALE:GREGORIAN
PRODID:-//MyApp//Calendar 1.0//EN
BEGIN:VEVENT
METHOD:PUBLISH
UID:47755@regionalniportaly.cz
DTSTAMP:20260421T101212Z
DTSTART;VALUE=DATE:20241112
DTEND;VALUE=DATE:20241113
SUMMARY:Smyčcové trio Gideon
DESCRIPTION:PAVEL WALLINGER - housle\, KAREL PLOCEK - viola\, JAN ŠKRDLÍK - violoncello\nNa koncertě zazní Ludwig van Beethoven - Smyčcové trio č.1 G dur\, op.9 č.1\; Franz Schubert - Smyčcové trio č.1 B dur\, D.471\; Bohuslav Martinů - Smyčcové trio č.1\, H.136\; Gideon Klein - Trio pro housle\, violu a violoncello. \nSmyčcové Trio Gideon vzniklo v roce 2002 na podnět nabídky Českého rozhlasu účinkováním na mezinárodním festivalu Musica brunensis. „Trio úspěšně vystupuje s méně obvyklými skladbami L. Beethovena\, J. Haydna\, B. Martinů před domácím i zahraničním publikem. Zvláštní pozornost věnuje Smyčcové Trio Gideon hudbě současné\, a zejména pak interpretaci Tria pro housle\, violu a violoncello Gideona Kleina. Tento skladatel a pianista patřil bezesporu k největším talentům první poloviny 20. století v českých zemích. Zemřel za tragických okolností v koncentračním táboře na konci 2. světové války.\nVstupné: 220\,-  děti\, studenti\, senioři: 180\,-\nPředprodej od 20. 10. 2024\n 
LOCATION:Třebíč
END:VEVENT
END:VCALENDAR