BEGIN:VCALENDAR
VERSION:2.0
CALSCALE:GREGORIAN
PRODID:-//MyApp//Calendar 1.0//EN
BEGIN:VEVENT
METHOD:PUBLISH
UID:47756@regionalniportaly.cz
DTSTAMP:20260421T161203Z
DTSTART;VALUE=DATE:20241114
DTEND;VALUE=DATE:20241115
SUMMARY:Roman Horký 60 Kamelot
DESCRIPTION:„ZAPRÁŠENÉ DIAMANTY TOUR 2024“\nZpěvák\, kytarista\, hudební skladatel Roman Horký oslaví v roce 2024 významné životní jubileum 60 roků se svými příznivci v rámci celorepublikového turné.\nKamelot je současná česká hudební skupina pocházející z Brna. Vznikla v roce 1982\, celou její historií ji provází zakladatel a frontman Roman Horký\, který je až na výjimky autorem všech textů i hudby k písním skupiny. V anketě časopisu Folk &amp\; Country byl Kamelot v letech 1993 až 1999 pokaždé zvolen skupinou roku a šest jeho alb bylo oceněno jako deska roku.\nKe známým písním kapely se mimo jiné řadí „Zachraňte koně“\, „Zrození hvězd“\, „Levnej hotel“\, „Čas rozchodů“\, „Pozor\, tunel!“\, „Slib“\, „Honolulu“\, „Island“ a další. Komerčně nejúspěšnějším se stalo debutové album „Zachraňte koně“ vydané v roce 1990\, které zaznamenalo téměř 100 000 prodaných nosičů a získalo multiplatinovou desku. Celkově se autorských alb Romana Horkého prodalo více než 500 000 kusů. Titulní skladba „Zachraňte koně“ získala ocenění Hit desetiletí ve folk a country hudbě.\nStěžejním programem koncertu bude výběr skladeb Romana Horkého a Kamelotu z historie až po současnost\, prolnutí srdečních skladeb autora a posluchačů. Některé písně přinese hudební skupina v nových\, nebo naopak v původních aranžích. Zazní i „Zaprášené diamanty“ ze stejnojmenného alba\, které vyšlo v závěru minulého roku a narozeninová novinka 60míle.\nChybět nebudou samozřejmě i největší hity Kamelotu. Součástí je autogramiáda Romana Horkého a členů Kamelotu po skončení koncertu.\nVstupné: 310\,-  320\,-  330\,-  Kč\nPředprodej od 17. 10. 2024
LOCATION:Třebíč
END:VEVENT
END:VCALENDAR