BEGIN:VCALENDAR
VERSION:2.0
CALSCALE:GREGORIAN
PRODID:-//MyApp//Calendar 1.0//EN
BEGIN:VEVENT
METHOD:PUBLISH
UID:47758@regionalniportaly.cz
DTSTAMP:20260422T140932Z
DTSTART;VALUE=DATE:20241117
DTEND;VALUE=DATE:20241118
SUMMARY:Světlo pro 17. listopad
DESCRIPTION:Oslava státního svátku spojená s lampiónovým průvodem.\n \nVÝROBA LAMPIONŮ 15.00-17.00 - DDM Třebíč 16.30-17.15 - ZŠ Horka-Domky Václavské náměstí\nLAMPIONOVÉ PRŮVODY 17.10 - odchod průvodu od DDM v Borovině 17.30 - odchod průvodu od ZŠ Horka-Domky Václavské náměstí 17.30 - odchod průvodu od ZŠ Týnská 17.30 - odchod průvodu od ZŠ Benešova  18.00 - PROGRAM NA KARLOVĚ NÁMĚSTÍ - zdravice starosty města Třebíče Pavla Pacala - vystoupení Josefa Valy - Česká státní hymna v podání žákyně ze ZUŠ Třebíč\nVstup zdarma
LOCATION:Třebíč
END:VEVENT
END:VCALENDAR