BEGIN:VCALENDAR
VERSION:2.0
CALSCALE:GREGORIAN
PRODID:-//MyApp//Calendar 1.0//EN
BEGIN:VEVENT
METHOD:PUBLISH
UID:47759@regionalniportaly.cz
DTSTAMP:20260422T124247Z
DTSTART;VALUE=DATE:20241119
DTEND;VALUE=DATE:20241120
SUMMARY:Tom Bowling & His Strikers
DESCRIPTION:Tom Bowling rodák z Mostu\, žijící již  30let v Třebíči\, představuje nový projekt  Tom Bowling and His Strikers.\nHudební kapela složená ze členů  Tom Bowling - zpěv\, kytary\, Mára Vaňkát - kytary\, Ivo Hašler - basová kytara a Václav Soukup - bicí\, se zaměřuje na hudební žánr Blues – Rock – Folk – Jazz.\nToto uskupení\, jehož repertoár se věnuje především vlastním autorským skladbám\, nabízí spojení širokého spektra pojetí hudby\, v kombinaci s příjemnou atmosférou a dobrou náladou.\nVstupné: 150\,- \nPředprodej od 22. 10. 2024
LOCATION:Třebíč
END:VEVENT
END:VCALENDAR