BEGIN:VCALENDAR
VERSION:2.0
CALSCALE:GREGORIAN
PRODID:-//MyApp//Calendar 1.0//EN
BEGIN:VEVENT
METHOD:PUBLISH
UID:47760@regionalniportaly.cz
DTSTAMP:20260422T154510Z
DTSTART;VALUE=DATE:20241120
DTEND;VALUE=DATE:20241121
SUMMARY:Vánoční koncert 2024 - Václav Marek s orchestrem
DESCRIPTION:Václav MAREK s orchestrem hraje k tanci i poslechu tu nejlepší hudbu nejen z minulého století. Kontinuálně tak navazuje na naše nejslavnější hudební tělesa v historii populární hudby. „Vánoční koncert 2024“ přináší vedle domácích šlágrů a celosvětově známých a osvědčených evergreenů také oblíbené vánoční písně a skladby včetně nejkrásnějších klasických českých koled. \nHlavním hostem bude absolventka AMU v Praze Kateřina BROŽOVÁ\, která v současnosti patří mezi nejpopulárnější a nejvyhledávanější herečky divadelní a muzikálové scény. Účinkuje v mnoha televizních seriálech\, věnuje se sólovému zpěvu a natočila několik hudebních alb. \nModerátor programu Dr. Milan MAREK je velký milovník Osvobozeného divadla\, Divadla Semafor a Divadla Járy Cimrmana. Láska k mluvenému slovu ho dovedla k působení v Českém rozhlase\, divadle Semafor\, ansámblu Blue Star a Orchestru Václava Marka.\nVstupné: 270\,-  290\,-   děti\, senioři: 220\,- 240\,- Kč\nVstupenky již v prodeji
LOCATION:Třebíč
END:VEVENT
END:VCALENDAR