BEGIN:VCALENDAR
VERSION:2.0
CALSCALE:GREGORIAN
PRODID:-//MyApp//Calendar 1.0//EN
BEGIN:VEVENT
METHOD:PUBLISH
UID:47761@regionalniportaly.cz
DTSTAMP:20260419T144534Z
DTSTART;VALUE=DATE:20241124
DTEND;VALUE=DATE:20241125
SUMMARY:Betlémská hvězda
DESCRIPTION:Poetické humorné představení je postaveno na českých a světových vánočních lidových i umělých písních a je určeno především pro rodiče s dětmi a děti předškolního a mladšího školního věku. Seznamuje nejmenší diváky s legendou o narození Ježíška a s písněmi\, které byly na jeho počest složeny po celém světě. Stejně jako v ostatních představeních Docela velkého divadla si na své přijdou i dospělí diváci. \nVstupné: 140\,- Kč\nPředprodej od 29. 10. 2024
LOCATION:Třebíč
END:VEVENT
END:VCALENDAR