BEGIN:VCALENDAR
VERSION:2.0
CALSCALE:GREGORIAN
PRODID:-//MyApp//Calendar 1.0//EN
BEGIN:VEVENT
METHOD:PUBLISH
UID:47775@regionalniportaly.cz
DTSTAMP:20260421T131440Z
DTSTART;VALUE=DATE:20241104
DTEND;VALUE=DATE:20241105
SUMMARY:Týden pěstounství
DESCRIPTION:
LOCATION:Třebíč
END:VEVENT
END:VCALENDAR