BEGIN:VCALENDAR
VERSION:2.0
CALSCALE:GREGORIAN
PRODID:-//MyApp//Calendar 1.0//EN
BEGIN:VEVENT
METHOD:PUBLISH
UID:48291@regionalniportaly.cz
DTSTAMP:20260422T213542Z
DTSTART;VALUE=DATE:20250307
DTEND;VALUE=DATE:20250308
SUMMARY:Peter Cmorik Band
DESCRIPTION:Nenechajte si ujsť klubové koncerty najoceňovanejšieho slovenského rockového speváka Petra Cmorika so svojou kapelou. Buďte pritom\, ako vás dostane do varu svojimi hitmi\, ktorých mnoho z nich získali ocenenia Hit roka\, či Album roka.&nbsp\;5 násobný Zlatý Slávik s hlasom Bryana Adamsa\, vám so svojou kapelou prinesie to najlepšie zo 6 sólových albumov a spoluprác s renomovanými umelcami z Čiech. Strhujúci koncert skvelých muzikantov\, vtipné moderovanie\, rocková tancovačka vám prinesie dokonalý zážitok z&nbsp\;hudby.&nbsp\;Piesne ako Dážď\, Mám pocit\, Jedno si želám\, Premýšľam nad tebou\, duety Kríž svůj neseme (J.Nohavica)\, či Vietor (O.Brzobohatý)\, songy z filmu Muzzikanti\, či skvelé rockové songy z práve vydaného albumu Najlepšie miesto\, to všetko vás čaká z bezprostrednej blízkosti klubového koncertu.
LOCATION:Třebíč
END:VEVENT
END:VCALENDAR