BEGIN:VCALENDAR
VERSION:2.0
CALSCALE:GREGORIAN
PRODID:-//MyApp//Calendar 1.0//EN
BEGIN:VEVENT
METHOD:PUBLISH
UID:48470@regionalniportaly.cz
DTSTAMP:20260422T155004Z
DTSTART;VALUE=DATE:20241201
DTEND;VALUE=DATE:20241202
SUMMARY:Láďa Křížek "Nejde vrátit čas"
DESCRIPTION:Ladislav Křížek stálice československé hudební scény\, zpěvák\, skladatel\, textař a zakladatel skupiny KREYSON vystoupí v Třebíči na svém adventním akustickém koncertě. \nZa pětatřicet let na scéně má za sebou stovky vyprodaných koncertů a sedm zlatých desek\, jednu s kapelou Citron\, tři s Kreysonem a tři se svým bratrem Miroslavem pod značkou Damiens. Je držitelem diamantové desky za víc jak půlmilionu prodaných nosičů\, celkově jich prodal přes milion\, a to nejen doma\, ale i v Evropě a Japonsku. \nNa akustickém koncertě zazní best of kapel Vitacit\, Kreyson\, Damiens\, Citron a hity z Láďovy sólové tvorby.\nZávěr koncertu bude patřit společnému vystoupení Ladislava Křížka s místním dětským pěveckým sborem\, kdy spolu zazpívají naše krásné české koledy. \n“Těšíme se na setkání s vámi a věřím\, že společně zažijeme krásnou předvánoční atmosféru\, která pohladí naše srdce. Váš Láďa“.\nVstupné 290\,-    320\,-  Kč\nVstupenky již v prodeji
LOCATION:Třebíč
END:VEVENT
END:VCALENDAR