BEGIN:VCALENDAR
VERSION:2.0
CALSCALE:GREGORIAN
PRODID:-//MyApp//Calendar 1.0//EN
BEGIN:VEVENT
METHOD:PUBLISH
UID:48474@regionalniportaly.cz
DTSTAMP:20260422T170405Z
DTSTART;VALUE=DATE:20241211
DTEND;VALUE=DATE:20241212
SUMMARY:Roberta Genna (IT/CZ)
DESCRIPTION:Roberta Genna (nar. 1992) vystudovala jazzový zpěv na konzervatoři v Bologni ve třídě vynikající Diany Torto (nahrávky a koncerty s Johnem Taylorem či Kennym Wheelerem). Dostala se do finále vícerých jazzových soutěží v Itálii jako např. Vittoria Jazz Festival\, My Way Festival a získala též Vokální cenu Pippa Ardiniho. V roce 2020 se zúčastnila TV soutěže „The Voice of Italy“\, kde postoupila mezi 16 nejlepších. Na soutěži Chicca Bettinradiho v roce 2021 se umístila na skvělém druhém místě. Spolupracuje s mnohými italskými hudebníky\, je členkou seskupení June Trio\, příležitostně hraje i na kytaru. Repertoár tvoří jazzové skladby a standardy občas pro ozvláštnění proložené italskými písněmi. A po epidemii covidu nabírá Robertina mezinárodní kariéra druhý dech… Sestava\, která zpěvačku doprovodí na jejím prvním českém turné\, je více než výjimečná: zkušený pianista a kapelník Jakub Zomer\, kontrabasista Jan Tengler  a stálý bubeník kapely Anety Langerové\, pan Martin Kopřiva.\nVstupné: 180\,-\nVstupenky v prodeji
LOCATION:Třebíč
END:VEVENT
END:VCALENDAR