BEGIN:VCALENDAR
VERSION:2.0
CALSCALE:GREGORIAN
PRODID:-//MyApp//Calendar 1.0//EN
BEGIN:VEVENT
METHOD:PUBLISH
UID:48475@regionalniportaly.cz
DTSTAMP:20260421T083031Z
DTSTART;VALUE=DATE:20241212
DTEND;VALUE=DATE:20241213
SUMMARY:Klíč "Velký adventní koncert"
DESCRIPTION:„VELKÝ ADVENTNÍ KONCERT“\nFolkově-renesanční skupina KLÍČ\, která na naší hudební scéně působí již od roku 1982\, patří bezesporu mezi českou – a to nejen folkovou – elitu a pro spoustu hudebníků i kapel se stala muzikantským etalonem a velkým hudebním vzorem.\nPři velkém slavnostním vánočním koncertu skupiny KLÍČ zazní jednak spousta adventních a vánočních písní a koled (většina z nich jsou spíše méně známé vánočně laděné lidové skladby\, avšak všechny zazní v typickém - „klíčovsky“ historizujícím - stylu)\, diváci si ovšem poslechnou i mnohé z nejúspěšnějších a léty prověřených autorských písní skupiny KLÍČ – jako jsou např. Pohár a kalich\, Omnia vincit amor\, Třináctka\, Víno... Ale chybět určitě nebudou ani skladby ze zatím posledního alba skupiny či ukázka z nejnovější autorské tvorby kapely.\nTento velký koncert kapela odehraje ve svém tradičním kompletním sedmičlenném obsazení:\nJaroslav Marian  – umělecký vedoucí\, zpěv\, šestistrunná a dvanáctistrunná kytara\, perkuse\, Pavla Marianová  – zpěv\, zobcové flétny\, krumhorny\, kornamusa\, dulcian\, šalmaj\, gemshorny\, dechový syntezátor\, zvonkohra\, perkuse\, Jana Slavatová  – zpěv\, bicí nástroje\, perkuse\, Jitka Krupičková  – zpěv\, příčná flétna\, zobcové flétny\, krumhorny\, gemshorny\, malý buben\, perkuse\, Jiří Krupička  – zpěv\, violoncello\, Jana Bošková  – zpěv\, příčná flétna\, pikola\, zobcové flétny\, dechový syntezátor\, bicí nástroje\, perkuse\, Jan Janda  – zpěv\, dvanáctistrunná a šestistrunná kytara\nPři koncertu budou v prodeji všechna aktuální CD skupiny KLÍČ i obě sólová alba zakládající členky této kapely – Pavly Marianové.\nVstupné: 280\,-  290\,-  300\,-  Kč\nVstupenky v prodeji
LOCATION:Třebíč
END:VEVENT
END:VCALENDAR