BEGIN:VCALENDAR
VERSION:2.0
CALSCALE:GREGORIAN
PRODID:-//MyApp//Calendar 1.0//EN
BEGIN:VEVENT
METHOD:PUBLISH
UID:48476@regionalniportaly.cz
DTSTAMP:20260422T140924Z
DTSTART;VALUE=DATE:20241215
DTEND;VALUE=DATE:20241216
SUMMARY:Skupina Screamers
DESCRIPTION:"TA UMÍ TO A TEN ZAS TOHLE"\nNová zábavná show "Ta umí to a ten zas tohle" legendární travesti-divadelní skupiny Screamers! Přesvědčte se sami\, že není práce bez legrace a každá profese nabízí mnoho důvodů k dobré zábavě!\nVstupné: 200\,-  230\,-   děti\, senioři: 250\,- 280\,- Kč\nVstupenky již v prodeji
LOCATION:Třebíč
END:VEVENT
END:VCALENDAR