BEGIN:VCALENDAR
VERSION:2.0
CALSCALE:GREGORIAN
PRODID:-//MyApp//Calendar 1.0//EN
BEGIN:VEVENT
METHOD:PUBLISH
UID:48478@regionalniportaly.cz
DTSTAMP:20260422T154110Z
DTSTART;VALUE=DATE:20241218
DTEND;VALUE=DATE:20241219
SUMMARY:2:22 Duchařský příběh
DESCRIPTION:ČINOHERNÍ KLUB PRAHA              \n Hrají: Romana Widenková\, Václav Šanda\, Markéta Stehlíková\, Jan Hájek\nRežie: Braňo Holiček\nNeskutečně napínavý a zábavný\, fascinující thriller. Jenny a Sam se spolu se svou malou dcerkou čerstvě nastěhovali do starého viktoriánského domu\, který rekonstruují. První noci v neznámém a v ještě nezabydleném prostředí jsou lehce děsivé. Jenny je přesvědčená\, že každou noc přesně ve 2:22 se z dětské chůvičky ozývají kroky – někdo chodí okolo postýlky. Je možné\, že v domě straší? Sam\, který je vědec\, je pouze ochotný připustit\, že cokoli může být slyšet\, se dá jednoznačně rozumně vysvětlit. A tak během kolaudačního večírku\, na který přijde jejich kamarádka Lauren se svým novým partnerem Benem\, po pár skleničkách vína padne rozhodnutí\, že všichni zůstanou vzhůru. Až do 2:22\, kdy se uvidí...\nVstupné: 420\,- / 450\,- Kč\nVstupenky v prodeji
LOCATION:Třebíč
END:VEVENT
END:VCALENDAR