BEGIN:VCALENDAR
VERSION:2.0
CALSCALE:GREGORIAN
PRODID:-//MyApp//Calendar 1.0//EN
BEGIN:VEVENT
METHOD:PUBLISH
UID:48479@regionalniportaly.cz
DTSTAMP:20260422T155014Z
DTSTART;VALUE=DATE:20241221
DTEND;VALUE=DATE:20241222
SUMMARY:Adventní koncert s Virtuosi Trebicenses
DESCRIPTION:Na adventním koncertě v krásném prostředí historické Zadní synagogy v Třebíči vystoupí orchestr Virtuosi Trebicenses\, který si v posledních letech získal mnoho příznivců. Orchestr byl založen Jakubem Lojdou v roce 2017 a od té doby přináší na pódia nejen krásné skladby\, ale i energii a vášeň pro klasickou hudbu. Umělecké vedení zajišťuje Vít Coufal\, hlavní koncertní mistr\, společně s druhým koncertním mistrem Adamem Cahou vedou orchestr k originálním interpretacím.\nVirtuosi Trebicenses se nebojí uvádět i méně hraná díla. Tento večer bude plný mistrů\, jako jsou Antonio Vivaldi\, Carl Jenkins a Béla Bartók. \nKoncert v Zadní synagoze je dlouholetou tradicí\, při které si každý návštěvník najde své.\nTento večer slibuje nejen krásný hudební zážitek v jedinečném prostředí s bohatou historií. \n \nVstupné: 180- Kč\nVstupenky v prodeji od
LOCATION:Třebíč
END:VEVENT
END:VCALENDAR