BEGIN:VCALENDAR
VERSION:2.0
CALSCALE:GREGORIAN
PRODID:-//MyApp//Calendar 1.0//EN
BEGIN:VEVENT
METHOD:PUBLISH
UID:49448@regionalniportaly.cz
DTSTAMP:20260421T131421Z
DTSTART;VALUE=DATE:20250101
DTEND;VALUE=DATE:20250102
SUMMARY:38. Novoroční varhanní koncert
DESCRIPTION:
LOCATION:Třebíč
END:VEVENT
END:VCALENDAR