BEGIN:VCALENDAR
VERSION:2.0
CALSCALE:GREGORIAN
PRODID:-//MyApp//Calendar 1.0//EN
BEGIN:VEVENT
METHOD:PUBLISH
UID:49694@regionalniportaly.cz
DTSTAMP:20260422T200556Z
DTSTART;VALUE=DATE:20250207
DTEND;VALUE=DATE:20250208
SUMMARY:TOTÁLNÍ NASAZENÍ v Třebíči
DESCRIPTION:Koncert Totálního nasazení v Třebíči.Support: DILEMMA IN CINEMA / punk / Slaný
LOCATION:Třebíč
END:VEVENT
END:VCALENDAR