BEGIN:VCALENDAR
VERSION:2.0
CALSCALE:GREGORIAN
PRODID:-//MyApp//Calendar 1.0//EN
BEGIN:VEVENT
METHOD:PUBLISH
UID:49819@regionalniportaly.cz
DTSTAMP:20260422T171750Z
DTSTART;VALUE=DATE:20250128
DTEND;VALUE=DATE:20250129
SUMMARY:Mário Bihári
DESCRIPTION:Koncert romského nevidomého hudebníka\, který hrával se Zuzanou Navarovou nebo s kapelou KOA. V současné době hraje sólově nebo s kapelou Bachtale Apsa\, ve které se objevuje i Bára Hrzánová.
LOCATION:Třebíč
END:VEVENT
END:VCALENDAR