BEGIN:VCALENDAR
VERSION:2.0
CALSCALE:GREGORIAN
PRODID:-//MyApp//Calendar 1.0//EN
BEGIN:VEVENT
METHOD:PUBLISH
UID:49875@regionalniportaly.cz
DTSTAMP:20260422T142745Z
DTSTART;VALUE=DATE:20250411
DTEND;VALUE=DATE:20250412
SUMMARY:Bastardi a Budulínek Tour 2025
DESCRIPTION:Cocotte Minute &amp\; Vojtaano | Bastardi a Budulínek Tour 2025.Zažij nezapomenutelný večer plný hudby\, energie a skvělé atmosféry!&nbsp\;Cocotte Minute&nbsp\;– legendární česká kapela známá svou dravou energií a nezaměnitelným zvukem. Přijď zažít show\, která tě pohltí!Vojtaano&nbsp\;– vtipné texty\, pohodové vibrace a talent\, který tě dostane. Příběhy ze života v podání tohoto skvělého písničkáře.
LOCATION:Třebíč
END:VEVENT
END:VCALENDAR