BEGIN:VCALENDAR
VERSION:2.0
CALSCALE:GREGORIAN
PRODID:-//MyApp//Calendar 1.0//EN
BEGIN:VEVENT
METHOD:PUBLISH
UID:49950@regionalniportaly.cz
DTSTAMP:20260422T130847Z
DTSTART;VALUE=DATE:20250526
DTEND;VALUE=DATE:20250527
SUMMARY:Robert Nebřenský - Osamělý jezdec
DESCRIPTION:Sólové vystoupení zpěváka\, básníka\, herce a kapelníka skupiny Vltava představí autorské písně v jejich písničkářské podobě.&nbsp\;Vše proloží povídáním\, které poodhalí okolnosti vzniku písní\, a doplní i dalším vyprávěním. V programu zazní také písně\, kterých by se příznivci Roberta Nebřenského v pravidelném koncertním programu skupiny Vltava možná nikdy nedočkali…
LOCATION:Třebíč
END:VEVENT
END:VCALENDAR