BEGIN:VCALENDAR
VERSION:2.0
CALSCALE:GREGORIAN
PRODID:-//MyApp//Calendar 1.0//EN
BEGIN:VEVENT
METHOD:PUBLISH
UID:49955@regionalniportaly.cz
DTSTAMP:20260422T132010Z
DTSTART;VALUE=DATE:20250326
DTEND;VALUE=DATE:20250327
SUMMARY:Norbi Kovács
DESCRIPTION:Norbi Kovács je slovenský kytarista a zpěvák. V současnosti je členem skupin Ivan Hlas Trio\, Lokomotiva a Kybabu.&nbsp\;Novinkou posledních měsíců jsou Norbiho samostatné akustické koncerty\, kde vystupuje se svými skladbami.
LOCATION:Třebíč
END:VEVENT
END:VCALENDAR