BEGIN:VCALENDAR
VERSION:2.0
CALSCALE:GREGORIAN
PRODID:-//MyApp//Calendar 1.0//EN
BEGIN:VEVENT
METHOD:PUBLISH
UID:50049@regionalniportaly.cz
DTSTAMP:20260422T155535Z
DTSTART;VALUE=DATE:20250130
DTEND;VALUE=DATE:20250131
SUMMARY:Azorské ostrovy
DESCRIPTION:Málo objevená evropská exotika na samém konci Evropské unie a daleko v Atlantském oceánu. Vystoupejte od rozervaných břehů s dramatickými lávovými útesy vzhůru k oblakům. Vrcholy kopců nejsou daleko od moře\, proto jsou výhledy na Atlantik skutečně úchvatné.\nObejděte široké krátery bývalých sopek porostlé kvetoucími keři hortenzií. Vychutnejte si výtečné místní víno\, osvěžte se mořských vzduchem a koupelemi v termálních koupalištích a pramenech. Průvodce Patrik Dekan navštívil Azorské ostrovy v minulých letech celkem 15x\, procestoval je doslova křížem krážem. Fotky plné přírodní zeleně a mnoha odstínů modrých barev moře a nebe vás jistě nadchnou.
LOCATION:Třebíč
END:VEVENT
END:VCALENDAR