BEGIN:VCALENDAR
VERSION:2.0
CALSCALE:GREGORIAN
PRODID:-//MyApp//Calendar 1.0//EN
BEGIN:VEVENT
METHOD:PUBLISH
UID:50050@regionalniportaly.cz
DTSTAMP:20260422T155505Z
DTSTART;VALUE=DATE:20250123
DTEND;VALUE=DATE:20250124
SUMMARY:Madeira - ostrov věčného jara
DESCRIPTION:Podíváme se spolu na "ostrov věčného jara" - Madeiru\, souostroví na půl cesty mezi Evropou a Amerikou. Díky příznivému počasí je Madeira ideálními místo pro dovolenou v průběhu celého roku. V horách  i podél levád nabízí nekonečné možnosti pro pěší turistiku. Mořský vzduch a bujná vegetace s mnoha exotickými druhy květin vás nenechají na pochybách\, že jste v subtropech.
LOCATION:Třebíč
END:VEVENT
END:VCALENDAR