BEGIN:VCALENDAR
VERSION:2.0
CALSCALE:GREGORIAN
PRODID:-//MyApp//Calendar 1.0//EN
BEGIN:VEVENT
METHOD:PUBLISH
UID:50051@regionalniportaly.cz
DTSTAMP:20260422T160928Z
DTSTART;VALUE=DATE:20250121
DTEND;VALUE=DATE:20250122
SUMMARY:Hetty Kate Trio (AUS/CZ)
DESCRIPTION:Hetty Kate (AUS) – zpěv\, Libor Šmoldas (CZ) – kytara\, Nick Haywood (AUS) – kontrabas\nJazzová zpěvačka Hetty Kate vyrostla v Anglii a Austrálii a nyní žije ve Francii. Dosud vydala devět alb a ozdobila klubová i festivalová pódia od Nového Zélandu po New York. "Hetty je jedna z nejlepších swingově-jazzových zpěvaček na současné scéně"\, říká americký jazzový kritik Will Friedwald. Navíc je Hetty na pódiu opravdová frontmanka a bavička a její přirozená muzikálnost a vokální čistota zaručují\, že je její hlas okamžitě rozpoznatelný. Původně byla školena v klasickém repertoáru\, od kterého ale brzy utekla k jazzu. Hettin přístup ctí skladatele jazzových skladeb tím\, že se zpěvačka drží melodie i textu a pokud používá improvizaci\, tak vždy způsobem\, který nikdy nic neubírá z příběhu písně. Je to právě tato kvalita\, která láká ke spolupráci renomované vydavatelství a umělce v Austrálii i Evropě\, včetně dlouhodobého pracovního vztahu s velkou australskou jazzovou hvězdou Jamesem Morrisonem.
LOCATION:Třebíč
END:VEVENT
END:VCALENDAR