BEGIN:VCALENDAR
VERSION:2.0
CALSCALE:GREGORIAN
PRODID:-//MyApp//Calendar 1.0//EN
BEGIN:VEVENT
METHOD:PUBLISH
UID:50054@regionalniportaly.cz
DTSTAMP:20260422T201323Z
DTSTART;VALUE=DATE:20250206
DTEND;VALUE=DATE:20250207
SUMMARY:Hypnotizér Jakub Kroulík
DESCRIPTION:Přijďte se uvolnit a prožít si něco velice výjimečného!\nJiž s příchodem hypnotizéra Jakuba Kroulíka na jeviště mohou citlivější návštěvníci představení začít pociťovat změny ve vnímání. Jakmile hypnotizér začne přenášet svou vůli na všechny návštěvníky v sále\, jeho vliv začnou pociťovat všichni. Osoby na jevišti na povel hypnotizéra usínají\, klepou se zimou\, zapomenou své jméno…\nNávštěvníci představení se však při tom všem výborně baví.
LOCATION:Třebíč
END:VEVENT
END:VCALENDAR