BEGIN:VCALENDAR
VERSION:2.0
CALSCALE:GREGORIAN
PRODID:-//MyApp//Calendar 1.0//EN
BEGIN:VEVENT
METHOD:PUBLISH
UID:50555@regionalniportaly.cz
DTSTAMP:20260422T213636Z
DTSTART;VALUE=DATE:20250210
DTEND;VALUE=DATE:20250211
SUMMARY:Cirk La Putyka: LA PUTYKA
DESCRIPTION:
LOCATION:Třebíč
END:VEVENT
END:VCALENDAR