BEGIN:VCALENDAR
VERSION:2.0
CALSCALE:GREGORIAN
PRODID:-//MyApp//Calendar 1.0//EN
BEGIN:VEVENT
METHOD:PUBLISH
UID:50562@regionalniportaly.cz
DTSTAMP:20260422T130205Z
DTSTART;VALUE=DATE:20250328
DTEND;VALUE=DATE:20250329
SUMMARY:Bůh v Cloudu
DESCRIPTION:Inspirativní talk show s husitskou farářkou Martinou Viktorií Kopeckou\, evangelickými faráři Pastoral Brothers - Jakubem Helebrantem a Karlem Mülllerem a katolickým knězme Janem Krbcem.&nbsp\;Moderátorka Eva Fruhwirtová se zaměří&nbsp\;na životní hodnoty\, výzvy a touhy. V rozhovoru s duchovními různých církví se bude&nbsp\;věnovat otázkám\, jak dnešní rychlá doba\, umělá inteligence a neustálé propojení ovlivňují duševní a duchovní zdraví mladé generace.&nbsp\;
LOCATION:Třebíč
END:VEVENT
END:VCALENDAR