BEGIN:VCALENDAR
VERSION:2.0
CALSCALE:GREGORIAN
PRODID:-//MyApp//Calendar 1.0//EN
BEGIN:VEVENT
METHOD:PUBLISH
UID:50661@regionalniportaly.cz
DTSTAMP:20260422T184425Z
DTSTART;VALUE=DATE:20250208
DTEND;VALUE=DATE:20250209
SUMMARY:Kouzelná školka uzamčená na fanfáru
DESCRIPTION:Kouzelná školka\, televizní fenomén pro děti nyní konečně ožívá a do divadla Vás s dětmi srdečně zve František z Fanfárie a jeho školková parťačka Lucka. Představení pro děti v licenci ČT se spoustou zábavy\, písniček\, překvapení a hlavně dobré nálady už brzy u nás.     \nVstupné: 250\,-\nVstupenky již v prodeji
LOCATION:Třebíč
END:VEVENT
END:VCALENDAR