BEGIN:VCALENDAR
VERSION:2.0
CALSCALE:GREGORIAN
PRODID:-//MyApp//Calendar 1.0//EN
BEGIN:VEVENT
METHOD:PUBLISH
UID:50663@regionalniportaly.cz
DTSTAMP:20260421T114415Z
DTSTART;VALUE=DATE:20250226
DTEND;VALUE=DATE:20250227
SUMMARY:Malina Brothers
DESCRIPTION:II. koncert HS\nMalina Brothers přivezou do Třebíče nové album a oslaví 15 let. Bratři Malinové\, tedy banjista Luboš (Druhá tráva)\, kytarista Pavel a houslista Josef se společně sešli na pódiu\, přizvali ještě kontrabasistu Pavla Peroutku a v roce 2010 založili skupinu Malina Brothers. Na koncertech v rámci patnáctých narozenin této legendy české bluegrassové hudby\, zazní známé písně jako Stín staré řeky\, A život běží dál nebo Rychlejší koně a několik nových autorských písní z aktuálního alba V peřejích (2024). Na novém cd se několika texty podílí Radůza a Pepa Lábus a hraje například Winston Watson\, původní bubeník Boba Dylana a další zajímaví hosté.                                        \nVstupné: 270\,-  280\,-  290\,-\nPředprodej od 29. 1. 2025\n 
LOCATION:Třebíč
END:VEVENT
END:VCALENDAR