BEGIN:VCALENDAR
VERSION:2.0
CALSCALE:GREGORIAN
PRODID:-//MyApp//Calendar 1.0//EN
BEGIN:VEVENT
METHOD:PUBLISH
UID:51181@regionalniportaly.cz
DTSTAMP:20260422T142612Z
DTSTART;VALUE=DATE:20250321
DTEND;VALUE=DATE:20250322
SUMMARY:LiStOVáNí / Lucie Macháčková: Historky z Tinderu 2
DESCRIPTION:LiStOVáNí je zpátky na Tinderu! Protože je tam stále Lucie Macháčková\, která napsala životní pokračování svých Historek z Tinderu. Neštěstí nechodí po horách\, ale po single holkách! Lucie přichází s další várkou milostných karambolů\, vypečených historek a peprných i bláznivých příběhů ze světa randění. Ze světa\, ve kterém každý někoho hledá a občas i sám sebe. Zaručeně zlepší den a rozvibruje bránici všem\, kdo jsou zadaní\, single i něco mezi. Račte se smát! Účinkují Pavla Dostálová\, Jakub Koudela.
LOCATION:Třebíč
END:VEVENT
END:VCALENDAR