BEGIN:VCALENDAR
VERSION:2.0
CALSCALE:GREGORIAN
PRODID:-//MyApp//Calendar 1.0//EN
BEGIN:VEVENT
METHOD:PUBLISH
UID:51210@regionalniportaly.cz
DTSTAMP:20260422T184334Z
DTSTART;VALUE=DATE:20250313
DTEND;VALUE=DATE:20250314
SUMMARY:Enigmatické variace
DESCRIPTION:I. představení Festivalu divadla 2-3-4 herců\nAGENTURA MICHAL JANČAŘÍK PLZEŇ\nHrají: Martin Stránský\, Jan Maléř\nRežie: Jan Burian\nDetektivní komedie odhaluje tajemství mezi dvěma muži a nepřítomnou ženou většinou s humorem. Někdy ale je puškou v ruce... Spád nevšedního dialogu napíná\, mrazí i baví a navíc překvapuje…\nVstupné: 410 / 430 / 450\nPředprodej od 26. 2. 2025
LOCATION:Třebíč
END:VEVENT
END:VCALENDAR