BEGIN:VCALENDAR
VERSION:2.0
CALSCALE:GREGORIAN
PRODID:-//MyApp//Calendar 1.0//EN
BEGIN:VEVENT
METHOD:PUBLISH
UID:51216@regionalniportaly.cz
DTSTAMP:20260422T142647Z
DTSTART;VALUE=DATE:20250330
DTEND;VALUE=DATE:20250331
SUMMARY:Vlasta Redl 50
DESCRIPTION:Velký koncert velkého muzikanta!\n \nVlasta Redl slaví 50 let na hudební scéně!\nTento geniální samorostný všeuměl\, skladatel\, textař a zpěvák\, spisovatel\, studiový hráč\, aranžér\, hudební režisér a producent\, který se podílel na 60 albech vyráží se svou kapelou\, aby oslavil půlstoletí na prknech\, která znamenají svět.\nVlasta se svou kapelou plnou skvělých muzikantů zahraje celý průřez svoji bohatou tvorbou\, nebudou samozřejmě chybět nejnosnější skladby z ranného AG Fleku a největší hity tohoto výjimečného muzikanta.
LOCATION:Třebíč
END:VEVENT
END:VCALENDAR