BEGIN:VCALENDAR
VERSION:2.0
CALSCALE:GREGORIAN
PRODID:-//MyApp//Calendar 1.0//EN
BEGIN:VEVENT
METHOD:PUBLISH
UID:51348@regionalniportaly.cz
DTSTAMP:20260422T142735Z
DTSTART;VALUE=DATE:20250411
DTEND;VALUE=DATE:20250412
SUMMARY:Mirek Kemel: Mordyjé
DESCRIPTION:Mordyjé - koncert Mirka KemelaMordyjé\, nové album Mirka Kemela\, vyhrálo hudební Cenu Anděl za rok 2024 v kategorii folk. Nenechte si ujít setkání naživo v Třebíči. Hrát bude s Vladimírem Javorským\, Tomášem Görtlerem a Vlastou Konopiským.Koncert proběhne na netradičním místě\, v sále čerstvě vyklizené pobočky knihovny na ulici Modřínová\, která se tímto na rok a půl rozloučí s publikem kvůli rekonstrukci. Adresa: Modřínová 595/9. (A namažete si i chleba škvarkovou pomazánkou).&nbsp\;
LOCATION:Třebíč
END:VEVENT
END:VCALENDAR