BEGIN:VCALENDAR
VERSION:2.0
CALSCALE:GREGORIAN
PRODID:-//MyApp//Calendar 1.0//EN
BEGIN:VEVENT
METHOD:PUBLISH
UID:51349@regionalniportaly.cz
DTSTAMP:20260422T204330Z
DTSTART;VALUE=DATE:20250327
DTEND;VALUE=DATE:20250328
SUMMARY:Petr Fejk: Jak se dělá zoo
DESCRIPTION:Petr Fejk: Jak se dělá zooAutorské čtení z knihy Petra Fejka\, ředitele pražské zoologické zahrady v letech 1997 - 2009.Dvouhodinová talk show\, plná výjimečných zkušeností a příběhů se zajímavými zvířaty a lidmi\, doplněná o projekci unikátních fotografií a zakončená autogramiádou a prodejem knih s osobním věnováním. O těžkých začátcích\, o povodni a o tom\, jak se ze staré zoo stala jedna z deseti nejlepších na světě.Petr Fejk byl ředitelem pražské zoo v letech 1997-2009 a nepřehlédnutelné výsledky jeho práce vedly v roce roce 2005 k ocenění&nbsp\;Manažer roku. Dnes především přednáší a publikuje. Vedle toho se angažuje v divadle\, v televizi a ve veřejném životě. V roce 2021 vydal knihu vzpomínek Jak se dělá zoo.
LOCATION:Třebíč
END:VEVENT
END:VCALENDAR