BEGIN:VCALENDAR
VERSION:2.0
CALSCALE:GREGORIAN
PRODID:-//MyApp//Calendar 1.0//EN
BEGIN:VEVENT
METHOD:PUBLISH
UID:51523@regionalniportaly.cz
DTSTAMP:20260422T200622Z
DTSTART;VALUE=DATE:20250315
DTEND;VALUE=DATE:20250316
SUMMARY:Běžecký závod Na Kopcích 2025
DESCRIPTION:Běžecký závod Na Kopcích je terénní závod v Třebíči\, běží se od základní školy Na Kopcích k rybníku Lubí a zpět. Jubilejní 10. ročníkzávodu je zařazen do Třebíčského běžeckého poháru. Akce je součástí projektu Tipsport Sportuj s námi a je určena pro všechny věkové kategorie od dětí po veterány. Na výběr jsou tratě od 300 m do 8 km\, měřeno bude profesionální časomírou.\nKromě běhu je v rámci akce připraven i doplňkový závod v orientačním běhu v přilehlém okolí\, pro kohokoli\, kdo si to chce jen vyzkoušet. Stačí přijít mezi 9:00-12:00.\n \nPřihlášky na běh a další podrobnosti o tratích najdete na webu akce v rozpisu http://kros.oobtrebic.cz/
LOCATION:Třebíč
END:VEVENT
END:VCALENDAR