BEGIN:VCALENDAR
VERSION:2.0
CALSCALE:GREGORIAN
PRODID:-//MyApp//Calendar 1.0//EN
BEGIN:VEVENT
METHOD:PUBLISH
UID:51533@regionalniportaly.cz
DTSTAMP:20260421T175111Z
DTSTART;VALUE=DATE:20251104
DTEND;VALUE=DATE:20251105
SUMMARY:ABBA Stars\, Třebíč
DESCRIPTION:Největší hity fenomenální švédské skupiny ABBA přináší do Třebíče jedna z nejúspěšnějších revivalových kapel&nbsp\;posledních desetiletí - ABBA Stars!!! Přijďte si poslechnout a zanotovat nesmrtelné hity jako Dancing Queen\, Mamma Mia! a další.&nbsp\;
LOCATION:Třebíč
END:VEVENT
END:VCALENDAR