BEGIN:VCALENDAR
VERSION:2.0
CALSCALE:GREGORIAN
PRODID:-//MyApp//Calendar 1.0//EN
BEGIN:VEVENT
METHOD:PUBLISH
UID:51579@regionalniportaly.cz
DTSTAMP:20260422T130127Z
DTSTART;VALUE=DATE:20250628
DTEND;VALUE=DATE:20250629
SUMMARY:Recitál Malý princ s Janem Cinou
DESCRIPTION:Recitál Malý princ s Janem Cinou\, Jaroměřice nad Rokytnou\, nádvoří zámku\, 28.6.🌟🎭👦🦊🎶🎵🏰🌟
LOCATION:Jaroměřice nad Rokytnou
END:VEVENT
END:VCALENDAR