BEGIN:VCALENDAR
VERSION:2.0
CALSCALE:GREGORIAN
PRODID:-//MyApp//Calendar 1.0//EN
BEGIN:VEVENT
METHOD:PUBLISH
UID:51627@regionalniportaly.cz
DTSTAMP:20260422T131940Z
DTSTART;VALUE=DATE:20250321
DTEND;VALUE=DATE:20250322
SUMMARY:LiStOVáNí / Lucie Macháčková: Historky z Tinderu 2
DESCRIPTION: \nLiStOVáNí je zpátky na Tinderu!\nProtože je tam stále Lucie Macháčková\, která napsala životní pokračování svých Historek z Tinderu.\nNeštěstí nechodí po horách\, ale po single holkách! Lucie přichází s další várkou milostných karambolů\, vypečených historek a peprných i bláznivých příběhů ze světa randění. Ze světa\, ve kterém každý někoho hledá a občas i sám sebe. Zaručeně zlepší den a rozvibruje bránici všem\, kdo jsou zadaní\, single i něco mezi.\nRačte se smát!\n \nÚčinkují Pavla Dostálová\, Jakub Koudela.\n \nMěstská knihovna v Třebíči\, 17:00\,120 Kč v předprodeji\, 150 Kč na místě. Předprodej knihovna a smsticket.cz. 
LOCATION:Třebíč
END:VEVENT
END:VCALENDAR