BEGIN:VCALENDAR
VERSION:2.0
CALSCALE:GREGORIAN
PRODID:-//MyApp//Calendar 1.0//EN
BEGIN:VEVENT
METHOD:PUBLISH
UID:51629@regionalniportaly.cz
DTSTAMP:20260422T131902Z
DTSTART;VALUE=DATE:20250327
DTEND;VALUE=DATE:20250328
SUMMARY:Jak se dělá zoo / Petr Fejk
DESCRIPTION:PhDr. Petr Fejk\, bývalý dlouholetý ředitel pražské zoo\, představí výjimečný příběh proměny největší a nejoblíbenější zoo v České republice. \nO těžkých začátcích\, o povodni i o tom\, jak se kdysi stará\, šedivá zahrada dostala v žebříčku amerického magazínu Forbes mezi 10 nejlepších zoo světa.\nProjekce unikátních fotografií\, představení stejnojmenné knihy a autogramiáda.\n \nMěstská knihovna v Třebíči\, 17:00\, vstupné 120 Kč v předprodeji v knihovně a na smsticket.cz\, 150 Kč na místě.
LOCATION:Třebíč
END:VEVENT
END:VCALENDAR