BEGIN:VCALENDAR
VERSION:2.0
CALSCALE:GREGORIAN
PRODID:-//MyApp//Calendar 1.0//EN
BEGIN:VEVENT
METHOD:PUBLISH
UID:51807@regionalniportaly.cz
DTSTAMP:20260422T160937Z
DTSTART;VALUE=DATE:20250406
DTEND;VALUE=DATE:20250407
SUMMARY:Jarní koncert Virtuosi Trebicenses
DESCRIPTION:Orchestr Virtuosi Trebicenses Vás srdečně zve na svůj první koncert sezóny v roce 2025.Tímto koncertem zahájí svoji osmou sezónu\, ve kterém se můžete těšit nejen na tvorbu pro smyčcový orchestr\, ale i na skvělé sólisty.Program je připraven z děl slavných autorů.Těšíme se na VásJarní koncert třebíčského orchestru Virtuosi Trebicenses si můžete přijít poslechnout v neděli 6. dubna 2025 od 18:00 h do kamenného sálu Zámku Třebíč.
LOCATION:Třebíč
END:VEVENT
END:VCALENDAR