BEGIN:VCALENDAR
VERSION:2.0
CALSCALE:GREGORIAN
PRODID:-//MyApp//Calendar 1.0//EN
BEGIN:VEVENT
METHOD:PUBLISH
UID:52026@regionalniportaly.cz
DTSTAMP:20260422T221613Z
DTSTART;VALUE=DATE:20250406
DTEND;VALUE=DATE:20250407
SUMMARY:Jarní koncert s Virtuosi Trebicenses
DESCRIPTION:Na první koncert další sezóny orchestru Virtuosi Trebicenses v roce 2025 si můžete přijít poslechnout v neděli 6. dubna od 18:00 hod. do kamenného sálu třebíčského zámku.\n \nTěšit se můžete na díla světových skladatelů jako je G. F. Händell\, G. Fauré\, W. A. Mozart a dalších.\nVstupné: 200 Kč\, senioři\,děti 150 Kč.\n \nVstupenky lze koupit na místě a nebo přes portál smsticket.
LOCATION:Třebíč
END:VEVENT
END:VCALENDAR