BEGIN:VCALENDAR
VERSION:2.0
CALSCALE:GREGORIAN
PRODID:-//MyApp//Calendar 1.0//EN
BEGIN:VEVENT
METHOD:PUBLISH
UID:52472@regionalniportaly.cz
DTSTAMP:20260422T114114Z
DTSTART;VALUE=DATE:20250625
DTEND;VALUE=DATE:20250626
SUMMARY:Vojta "Kiďák" Tomáško
DESCRIPTION:Vojta „Kiďák“ Tomáško\, vlastním jménem Vojtěch Tomáško\, je trampský a folkový písničkář\, kromě jiného zakladatel a bývalý člen loketské trampské skupiny Roháči. Je držitelem několika Port. V současnosti vystupuje sólově.
LOCATION:Třebíč
END:VEVENT
END:VCALENDAR